BEGIN:VCALENDAR
VERSION:2.0
PRODID:-//Angelschein Dresden - ECPv6.14.0//NONSGML v1.0//EN
CALSCALE:GREGORIAN
METHOD:PUBLISH
X-WR-CALNAME:Angelschein Dresden
X-ORIGINAL-URL:https://angelschein-dresden.de
X-WR-CALDESC:Veranstaltungen für Angelschein Dresden
REFRESH-INTERVAL;VALUE=DURATION:PT1H
X-Robots-Tag:noindex
X-PUBLISHED-TTL:PT1H
BEGIN:VTIMEZONE
TZID:Europe/Berlin
BEGIN:DAYLIGHT
TZOFFSETFROM:+0100
TZOFFSETTO:+0200
TZNAME:CEST
DTSTART:20250330T010000
END:DAYLIGHT
BEGIN:STANDARD
TZOFFSETFROM:+0200
TZOFFSETTO:+0100
TZNAME:CET
DTSTART:20251026T010000
END:STANDARD
END:VTIMEZONE
BEGIN:VEVENT
DTSTART;TZID=Europe/Berlin:20251115T090000
DTEND;TZID=Europe/Berlin:20251122T163000
DTSTAMP:20260422T152535
CREATED:20250314T103625Z
LAST-MODIFIED:20250731T111731Z
UID:1047-1763197200-1763829000@angelschein-dresden.de
SUMMARY:Fischereischeinkurs November 2025 15.11./ 16.11./ 22.11. - Präsenzkurs mit Praxistag
DESCRIPTION:15.11./ 16.11./ 22.11.* \n  \n* Praxistag Teichwirtschaft\n** Kurs mit Feiertag
URL:https://angelschein-dresden.de/kurs/fischereischeinkurs-november-2025/
LOCATION:TU Dresden/ Zeunerbau\, George-Bähr-Str. 3\, Dresden\, Sachsen\, 01069\, Germany
END:VEVENT
END:VCALENDAR